BEGIN:VCALENDAR
VERSION:2.0
PRODID:spatie/icalendar-generator
DESCRIPTION:Veranstaltungen von Fotopodcast
X-WR-CALDESC:Veranstaltungen von Fotopodcast
REFRESH-INTERVAL;VALUE=DURATION:PT1440M
X-PUBLISHED-TTL:PT1440M
BEGIN:VTIMEZONE
TZID:Europe/Berlin
BEGIN:DAYLIGHT
DTSTART:20210328T020000Z
TZOFFSETFROM:+0100
TZOFFSETTO:+0200
END:DAYLIGHT
BEGIN:STANDARD
DTSTART:20211031T030000Z
TZOFFSETFROM:+0200
TZOFFSETTO:+0100
END:STANDARD
BEGIN:DAYLIGHT
DTSTART:20220327T020000Z
TZOFFSETFROM:+0100
TZOFFSETTO:+0200
END:DAYLIGHT
BEGIN:STANDARD
DTSTART:20221030T030000Z
TZOFFSETFROM:+0200
TZOFFSETTO:+0100
END:STANDARD
BEGIN:DAYLIGHT
DTSTART:20230326T020000Z
TZOFFSETFROM:+0100
TZOFFSETTO:+0200
END:DAYLIGHT
END:VTIMEZONE
BEGIN:VTIMEZONE
TZID:UTC
BEGIN:STANDARD
DTSTART:20250725T121102Z
TZOFFSETFROM:+0000
TZOFFSETTO:+0000
END:STANDARD
END:VTIMEZONE
BEGIN:VEVENT
UID:13-12
DTSTAMP:20260421T121102Z
SUMMARY:Das zerbrechliche Paradies
LOCATION:Gasometer Oberhausen Essener Strasse 3  Oberhausen  46047
ORGANIZER;CN=Jürgen Baur:MAILTO:juergen@btg-info.de
DTSTART;TZID=Europe/Berlin:20211001T100000
DTEND;TZID=Europe/Berlin:20221230T180000
X-ALT-DESC;FMTTYPE=TEXT/HTML:<p>Die erste Ausstellung nach der umfangreiche
 n Sanierung des Gasometers zeigt ab dem 1. Oktober 2021 die Schönheit der
  Natur und den Einfluss des Menschen auf seine Umwelt. „Das zerbrechlich
 e Paradies“ nimmt die Besucher mit auf eine bildgewaltige Reise durch di
 e bewegte Klimageschichte unserer Erde und zeigt in beeindruckenden\, prei
 sgekrönten Fotografien und Videos\, wie sich die Tier- und Pflanzenwelt i
 n Zeiten des Anthropozäns verändert.</p>\n
CATEGORIES:Ausstellung,  Externe Veranstaltung
URL;VALUE=URI:https://fotopodcast.de/events/das-zerbrechliche-paradies/
METHOD:PUBLISH
END:VEVENT
END:VCALENDAR