BEGIN:VCALENDAR
VERSION:2.0
PRODID:spatie/icalendar-generator
DESCRIPTION:Veranstaltungen von Fotopodcast
X-WR-CALDESC:Veranstaltungen von Fotopodcast
REFRESH-INTERVAL;VALUE=DURATION:PT1440M
X-PUBLISHED-TTL:PT1440M
BEGIN:VTIMEZONE
TZID:Europe/Berlin
BEGIN:STANDARD
DTSTART:20251026T030000Z
TZOFFSETFROM:+0200
TZOFFSETTO:+0100
END:STANDARD
BEGIN:DAYLIGHT
DTSTART:20260329T020000Z
TZOFFSETFROM:+0100
TZOFFSETTO:+0200
END:DAYLIGHT
BEGIN:STANDARD
DTSTART:20261025T030000Z
TZOFFSETFROM:+0200
TZOFFSETTO:+0100
END:STANDARD
END:VTIMEZONE
BEGIN:VTIMEZONE
TZID:UTC
BEGIN:STANDARD
DTSTART:20250725T092511Z
TZOFFSETFROM:+0000
TZOFFSETTO:+0000
END:STANDARD
END:VTIMEZONE
BEGIN:VEVENT
UID:164-141
DTSTAMP:20260421T092511Z
SUMMARY:In Love with Photography
LOCATION:Freelens Galerie Alter Steinweg 15  Hamburg  20459
ORGANIZER;CN=Jürgen Baur:MAILTO:juergen@btg-info.de
DTSTART;TZID=Europe/Berlin:20260514T000000
DTEND;TZID=Europe/Berlin:20260514T010000
X-ALT-DESC;FMTTYPE=TEXT/HTML:<p>In der Ausstellung zeigen wir Porträts des
  Fotografen und langjährigen FREELENS Mitglieds Volker Hinz († 18.10.20
 19). Über Jahrzehnte hat er einige der prägendsten Fotograf*innen der Fo
 togeschichte getroffen und fotografiert. Seine Arbeiten ermöglichen einen
  unmittelbaren\, oft überraschend nahen Blick auf die Menschen hinter den
  ikonischen Bildern und zeichnen ein lebendiges Panorama der Fotografie al
 s Kunst\, Handwerk und Haltung.</p>\n
CATEGORIES:Ausstellung,  Externe Veranstaltung
URL;VALUE=URI:https://fotopodcast.de/events/in-love-with-photography/
METHOD:PUBLISH
END:VEVENT
END:VCALENDAR