BEGIN:VCALENDAR
VERSION:2.0
PRODID:spatie/icalendar-generator
DESCRIPTION:Veranstaltungen von Fotopodcast
X-WR-CALDESC:Veranstaltungen von Fotopodcast
REFRESH-INTERVAL;VALUE=DURATION:PT1440M
X-PUBLISHED-TTL:PT1440M
BEGIN:VTIMEZONE
TZID:Europe/Berlin
BEGIN:STANDARD
DTSTART:20211031T030000Z
TZOFFSETFROM:+0200
TZOFFSETTO:+0100
END:STANDARD
BEGIN:DAYLIGHT
DTSTART:20220327T020000Z
TZOFFSETFROM:+0100
TZOFFSETTO:+0200
END:DAYLIGHT
BEGIN:STANDARD
DTSTART:20221030T030000Z
TZOFFSETFROM:+0200
TZOFFSETTO:+0100
END:STANDARD
END:VTIMEZONE
BEGIN:VTIMEZONE
TZID:UTC
BEGIN:STANDARD
DTSTART:20250724T091336Z
TZOFFSETFROM:+0000
TZOFFSETTO:+0000
END:STANDARD
END:VTIMEZONE
BEGIN:VEVENT
UID:7-7
DTSTAMP:20260420T091336Z
SUMMARY:Fuck it\, Photography!
LOCATION:Fuck it\, Photography! Hohe Straße 53  Düsseldorf  40213
ORGANIZER;CN=Neufi:MAILTO:neufi@fotopodcast.de
DTSTART;TZID=Europe/Berlin;VALUE=DATE:20220513
DTEND;TZID=Europe/Berlin;VALUE=DATE:20220620
X-ALT-DESC;FMTTYPE=TEXT/HTML:<p>„Wann war der letzte Tag\, an dem mir das
  Wort ‚Fotografie‘ nicht durch meinen Kopf ging? Wird es jemals wieder
  einen Tag geben\, an dem dieser Begriff nicht in meinen Kopf herumkreisen
  wird?“– sinniert Peter Miller anlässlich seiner ersten Einzelausstel
 lung bei SETAREH.</p>\n
CATEGORIES:Ausstellung,  Externe Veranstaltung
URL;VALUE=URI:https://fotopodcast.de/events/fuck-it-photography/
METHOD:PUBLISH
END:VEVENT
END:VCALENDAR